BEGIN:VCALENDAR
VERSION:2.0
PRODID:-//Anglesey Attractions - ECPv6.15.11//NONSGML v1.0//EN
CALSCALE:GREGORIAN
METHOD:PUBLISH
X-WR-CALNAME:Anglesey Attractions
X-ORIGINAL-URL:https://anglesey-attractions.co.uk
X-WR-CALDESC:Events for Anglesey Attractions
REFRESH-INTERVAL;VALUE=DURATION:PT1H
X-Robots-Tag:noindex
X-PUBLISHED-TTL:PT1H
BEGIN:VTIMEZONE
TZID:Europe/Dublin
BEGIN:STANDARD
TZOFFSETFROM:+0000
TZOFFSETTO:+0100
TZNAME:IST
DTSTART:20240331T010000
END:STANDARD
BEGIN:DAYLIGHT
TZOFFSETFROM:+0100
TZOFFSETTO:+0000
TZNAME:GMT
DTSTART:20241027T010000
END:DAYLIGHT
BEGIN:STANDARD
TZOFFSETFROM:+0000
TZOFFSETTO:+0100
TZNAME:IST
DTSTART:20250330T010000
END:STANDARD
BEGIN:DAYLIGHT
TZOFFSETFROM:+0100
TZOFFSETTO:+0000
TZNAME:GMT
DTSTART:20251026T010000
END:DAYLIGHT
BEGIN:STANDARD
TZOFFSETFROM:+0000
TZOFFSETTO:+0100
TZNAME:IST
DTSTART:20260329T010000
END:STANDARD
BEGIN:DAYLIGHT
TZOFFSETFROM:+0100
TZOFFSETTO:+0000
TZNAME:GMT
DTSTART:20261025T010000
END:DAYLIGHT
END:VTIMEZONE
BEGIN:VEVENT
DTSTART;VALUE=DATE:20250823
DTEND;VALUE=DATE:20250824
DTSTAMP:20260420T141825
CREATED:20250808T124326Z
LAST-MODIFIED:20250819T234048Z
UID:648-1755907200-1755993599@anglesey-attractions.co.uk
SUMMARY:RNLI Beaumaris Lifeboat Day
DESCRIPTION:
URL:https://anglesey-attractions.co.uk/event/rnli-beaumaris-lifeboat-day/
LOCATION:RNLI Lifeboat Station\, Beaumaris\, 2 Boathouse\, Beaumaris\, Anglesey\, LL58 8BS\, United Kingdom
CATEGORIES:Charity
END:VEVENT
END:VCALENDAR